BEGIN:VCALENDAR
VERSION:2.0
PRODID:-//wp-events-plugin.com//7.2.3.1//EN
TZID:Europe/Berlin
X-WR-TIMEZONE:Europe/Berlin
BEGIN:VEVENT
UID:35@kurt-ev.de
DTSTART;TZID=Europe/Berlin;VALUE=DATE:20230505
DTEND;TZID=Europe/Berlin;VALUE=DATE:20230507
DTSTAMP:20230419T143945Z
URL:https://kurt-ev.de/veranstaltungen/twuster-schwimmpark-event/
SUMMARY:Twuster Schwimmpark-Event
DESCRIPTION:Zur neuen Saison 2023 möchten wir (der Förderverein) zusammen
  mit der Stadt Twistringen und KURT ein Schwimmpark Event veranstalten. Zu
 gunsten eines noch zu wählenden Spendenprojektes\nDie Veranstaltung soll 
 am Freitagabend 5. Mai um 18 Uhr mit einem Grillfest der Twuster Perle\, M
 usik und dem Start des Twuster IronMan Triathlon beginnen. 2 Ironman teams
  werden als Staffel gegeneinander antreten und durch die Nacht auf Samstag
  3\,8 km Schwimmen\, 180 km Radfahren und 42 km Laufen.\nDaneben soll ein 
 Nachtschwimmen (Fakelschwimmen)\, Beach Volleyball und Fußballturnier sta
 ttfinden.\nAußerdem sollen Musikbands engagiert werden.\nAm Samstag wird 
 dann ein Spaß Familien-\, Firmen\, Team Triathlon angeboten: 500 m Schwim
 men\, 20 km Radfahren und 5 km Laufen. Dazu können sich im Vorfeld Famili
 en\, Firmen und Teams anmelden.\nAuch der Samstag soll mit Frühstück\, G
 rillen u.a. Spezialitäten\, sowie Musik begleitet werden. Dazu verschiede
 ne Wasseraktionen mit Sportvereinen\, sowie Beach Soccer\, Beach Volleybal
 l u.a.\nWir möchten den Schwimmpark damit aktiv bewerben und seine Attrak
 tivität vorstellen.
ATTACH;FMTTYPE=image/jpeg:https://kurt-ev.de/wp-content/uploads/2022/10/An
 baden-SocialMedia2023_1.jpg
END:VEVENT
BEGIN:VTIMEZONE
TZID:Europe/Berlin
X-LIC-LOCATION:Europe/Berlin
BEGIN:DAYLIGHT
DTSTART:20230326T030000
TZOFFSETFROM:+0100
TZOFFSETTO:+0200
TZNAME:CEST
END:DAYLIGHT
END:VTIMEZONE
END:VCALENDAR