BEGIN:VCALENDAR
VERSION:2.0
PRODID:-//wp-events-plugin.com//7.2.3.1//EN
TZID:Europe/Berlin
X-WR-TIMEZONE:Europe/Berlin
BEGIN:VEVENT
UID:6@kurt-ev.de
DTSTART;TZID=Europe/Berlin:20220911T140000
DTEND;TZID=Europe/Berlin:20220911T173000
DTSTAMP:20220729T115034Z
URL:https://kurt-ev.de/veranstaltungen/tag-des-offenen-denkmals/
SUMMARY:Tag des offenen Denkmals
DESCRIPTION:Das diesjährige Motto lautet „KulturSpur. Ein Fall für den 
 Denkmalschutz“. Dafür bietet das Strohmuseum kostenlose Führunge mit S
 trohhutnähen und Malottenvorführungen an. Dazu lockt Kaffee und Kuchen a
 uf der Museumsdiele.
LOCATION:#_LOCATIONNAME\, #_LOCATIONFULLLINE\, #_LOCATIONCOUNTRY
GEO:52.803613;8.637426
X-APPLE-STRUCTURED-LOCATION;VALUE=URI;X-ADDRESS=#_LOCATIONFULLLINE\, #_LOCA
 TIONCOUNTRY;X-APPLE-RADIUS=100;X-TITLE=#_LOCATIONNAME:geo:52.803613,8.6374
 26
END:VEVENT
BEGIN:VTIMEZONE
TZID:Europe/Berlin
X-LIC-LOCATION:Europe/Berlin
BEGIN:DAYLIGHT
DTSTART:20220327T030000
TZOFFSETFROM:+0100
TZOFFSETTO:+0200
TZNAME:CEST
END:DAYLIGHT
END:VTIMEZONE
END:VCALENDAR