BEGIN:VCALENDAR
VERSION:2.0
PRODID:-//wp-events-plugin.com//7.2.3.1//EN
TZID:Europe/Berlin
X-WR-TIMEZONE:Europe/Berlin
BEGIN:VEVENT
UID:134@kurt-ev.de
DTSTART;TZID=Europe/Berlin:20231118T153000
DTEND;TZID=Europe/Berlin:20231118T163000
DTSTAMP:20230522T052408Z
URL:https://kurt-ev.de/veranstaltungen/rainer-rudloff-der-raeuber-hotzenpl
 otz/
SUMMARY:Rainer Rudloff: Der Räuber Hotzenplotz
DESCRIPTION:Der Schauspieler Rainer Rudloff bietet anlässlich des 100. Geb
 urtstages von Otfried Preußler eine szenische Lesung aus dem Kinderbuch-K
 lassiker "Der Räuber Hotzenplotz" an. Der arme Kasperl ist vom Räuber Ho
 tzenplotz gefangen und an den großen bösen Zauberer Petrosilius Zwackelm
 ann verkauft worden. Dort sitzt er in der Schloßküche und schält Kartof
 feln bis zum Umfallen - bis er das schreckliche Geheimnis im Verlies von Z
 wackelmanns Zauberturm entdeckt... Die Lesung ist geeignet für Kinder im 
 Alter von 7-10 Jahren.
ATTACH;FMTTYPE=image/jpeg:https://kurt-ev.de/wp-content/uploads/2023/05/Ru
 dloff-Pressefoto-Hotzenplotz-c-Constanze-Martini.jpg
END:VEVENT
BEGIN:VTIMEZONE
TZID:Europe/Berlin
X-LIC-LOCATION:Europe/Berlin
BEGIN:STANDARD
DTSTART:20231029T020000
TZOFFSETFROM:+0200
TZOFFSETTO:+0100
TZNAME:CET
END:STANDARD
END:VTIMEZONE
END:VCALENDAR