BEGIN:VCALENDAR
VERSION:2.0
PRODID:-//wp-events-plugin.com//7.2.3.1//EN
TZID:Europe/Berlin
X-WR-TIMEZONE:Europe/Berlin
BEGIN:VEVENT
UID:109@kurt-ev.de
DTSTART;TZID=Europe/Berlin:20230322T190000
DTEND;TZID=Europe/Berlin:20230322T210000
DTSTAMP:20230308T081707Z
URL:https://kurt-ev.de/veranstaltungen/naturnahe-gartengestaltung-wirkt-wu
 nder/
SUMMARY:Naturnahe Gartengestaltung wirkt Wunder
DESCRIPTION:TWISTRINGEN – Wir erleben derzeit einen starken Rückgang der
  Artenvielfalt. In der freien Landschaft beherrschen Monokulturen das Bild
  und in den Hausgärten mehren sich die Steinwüsten statt Bäumen\, Strä
 uchern und Stauden. In einem naturnahen Garten finden die Bedürfnisse von
  Mensch\, Pflanze und Tier gleichermaßen Berücksichtigung. Dabei spielen
  nicht nur die Bau- und Gestaltungsmaterialien eine Rolle\, sondern auch d
 ie Interessen der verschiedenen Gartenbewohner. Deshalb lädt die VHS in K
 ooperation mit der Agenda-Gruppe Stadtentwicklung und Landschaftspflege un
 d der Klimafachgruppe Twistringen zum Vortrag „Naturnahe Gartengestaltun
 g wirkt Wunder“ von Heiko Janßen ein. Herr Janßen zeigt\, in dem koste
 nfreien Vortrag am Mittwoch\, 22. März um 19:00 Uhr im Rathaus Twistringe
 n\, Tipps und Techniken aus der Praxis für eine naturnahe Gartengestaltun
 g. Ein Vortrag für alle\, die mit Ihrem Garten zum eigenen Wohlbefinden\,
  zum Artenschutz und zu einer lebenswerten Umwelt beitragen möchten. Im A
 nschluss werden die Naturgartenberater der Kommunen der W.I.N. Region vorg
 estellt. Es wird um eine Anmeldung\, online auf der VHS-Website www.vhs-di
 epholz.de oder telefonisch unter 04242 976-4444 gebeten.
ATTACH;FMTTYPE=image/jpeg:https://kurt-ev.de/wp-content/uploads/2023/03/IM
 G_20210708_102230_resized_20230307_032409109-1.jpg
END:VEVENT
BEGIN:VTIMEZONE
TZID:Europe/Berlin
X-LIC-LOCATION:Europe/Berlin
BEGIN:STANDARD
DTSTART:20221030T020000
TZOFFSETFROM:+0200
TZOFFSETTO:+0100
TZNAME:CET
END:STANDARD
END:VTIMEZONE
END:VCALENDAR