BEGIN:VCALENDAR
VERSION:2.0
PRODID:-//wp-events-plugin.com//7.2.3.1//EN
TZID:Europe/Berlin
X-WR-TIMEZONE:Europe/Berlin
BEGIN:VEVENT
UID:113@kurt-ev.de
DTSTART;TZID=Europe/Berlin:20230325T193000
DTEND;TZID=Europe/Berlin:20230325T203000
DTSTAMP:20230315T163810Z
URL:https://kurt-ev.de/veranstaltungen/nachtwanderung-zum-thema-tiere-der-
 nacht/
SUMMARY:Nachtwanderung zum Thema "Tiere der Nacht"
DESCRIPTION:Ein natürlicher Tag- und Nachtrhythmus ist nicht nur für die 
 Gesundheit der Menschen\, sondern auch für viele Tiere von Bedeutung. Dur
 ch künstliches Licht werden insbesondere nacht- und dämmerungsaktive Leb
 ewesen stark beeinflusst und gefährdet. Während es zur jährlichen Earth
  Hour in der Stadt Twistringen für eine Stunde dunkel wird\, wollen wir g
 emeinsam mit Fred Heuermann auf einer Nachtwanderung die Tiere der Nacht u
 nd ihre einzigartigen Lebensweisen etwas besser kennenlernen. Weshalb flie
 gen Motten in das Licht\, wie haben sich Eulen auf die Dunkelheit angepass
 t? Welche Fledermaus war das da gerade? Was kann ich tun\, um die Nachtbew
 ohner zu unterstützen? Durch die Dunkelheit gelingt uns ein Perspektivenw
 echsel\, welcher erlaubt unsere Umwelt neu und vielleicht besser zu verste
 hen. Am Ende sind wir eben nicht allein unter all den Sternen.\n\nDie Teil
 nehmeranzahl hierfür ist beschränkt\, daher wird um eine Anmeldung bei d
 er Stadt Twistringen gebeten. Ansprechpartner ist Lydia Geerken (04243-413
 -104) oder per Mail: l.geerken@twistringen.de.
ATTACH;FMTTYPE=image/jpeg:https://kurt-ev.de/wp-content/uploads/2023/03/10
 80x1080-EH23-Staedte.jpg
END:VEVENT
BEGIN:VTIMEZONE
TZID:Europe/Berlin
X-LIC-LOCATION:Europe/Berlin
BEGIN:STANDARD
DTSTART:20221030T020000
TZOFFSETFROM:+0200
TZOFFSETTO:+0100
TZNAME:CET
END:STANDARD
END:VTIMEZONE
END:VCALENDAR