BEGIN:VCALENDAR
VERSION:2.0
PRODID:-//wp-events-plugin.com//7.2.3.1//EN
TZID:Europe/Berlin
X-WR-TIMEZONE:Europe/Berlin
BEGIN:VEVENT
UID:249@kurt-ev.de
DTSTART;TZID=Europe/Berlin:20250511T140000
DTEND;TZID=Europe/Berlin:20250511T173000
DTSTAMP:20250202T163849Z
URL:https://kurt-ev.de/veranstaltungen/muttertag-im-strohmuseum-2/
SUMMARY:Muttertag im Strohmuseum
DESCRIPTION:Am 11. Mai ist Muttertag! Wie wäre es mit einem Überraschungs
 besuch für die Mama in Deutschlands einzigem Strohmuseum? Von 14.00 bis 1
 7.30 Uhr öffnet das Twistringer Museum der Strohverarbeitung im Kapellenw
 eg 2 seine Türen. Gerne geben die ehrenamtlich Aktiven Auskunft rund um d
 as Thema „300 Jahre Strohverarbeitung in Twistringen“. Anhand der zahl
 reichen historischen Maschinen\, Ausstellungsobjekte\, den anschaulichen I
 nformationstafeln und großformatigen Fotos sowie den über 20 Kurzfilmen 
 an den fünf modernen Multimediastationen können sich die Gäste auf Zeit
 reise begeben. Zusätzlich hat im Obergeschoss die kleine aber feine Fossi
 lienausstellung des Heimat- und Bürgersvereins Twistringen geöffnet. Fü
 r alle Mütter hält das Museumsteam an diesem besonderen Sonntag ein klei
 nes Überraschungsgeschenk bereit.\n\nWeitere Infos zu Preisen\, Führunge
 n\, Angeboten und Veranstaltungen gibt es unter www.strohmuseum.de\, telef
 onisch unter 04243 4492 zu den Büroöffnungszeiten Di und Do von 9 bis 11
 .30 Uhr sowie per Mail unter info@strohmuseum.de
ATTACH;FMTTYPE=image/jpeg:https://kurt-ev.de/wp-content/uploads/2025/01/Fo
 to-Muttertag-II.jpg
END:VEVENT
BEGIN:VTIMEZONE
TZID:Europe/Berlin
X-LIC-LOCATION:Europe/Berlin
BEGIN:DAYLIGHT
DTSTART:20250330T030000
TZOFFSETFROM:+0100
TZOFFSETTO:+0200
TZNAME:CEST
END:DAYLIGHT
END:VTIMEZONE
END:VCALENDAR