BEGIN:VCALENDAR
VERSION:2.0
PRODID:-//wp-events-plugin.com//7.2.3.1//EN
TZID:Europe/Berlin
X-WR-TIMEZONE:Europe/Berlin
BEGIN:VEVENT
UID:258@kurt-ev.de
DTSTART;TZID=Europe/Berlin:20250518T110000
DTEND;TZID=Europe/Berlin:20250518T170000
DTSTAMP:20250424T192931Z
URL:https://kurt-ev.de/veranstaltungen/maritimes-fischbroetchen/
SUMMARY:Maritimes Fischbrötchen
DESCRIPTION:Taucht ein in ein Fest der maritimen Genüsse und der Musik!\n\
 nWir laden euch herzlich zu dieser Veranstaltung im malerischen Hochzeitsw
 ald ein. Der Duft von frisch gegrilltem Flammlachs und Fisch wird in der L
 uft liegen\, während die Klänge traditioneller Shanty-Chöre den Wald in
  Stimmung versetzen.\n\nVerpasst nicht die Gelegenheit\, mit Freunden\, Fa
 milie oder Bekannten bei gutem Essen\, guter Musik und guter Laune in ents
 pannter Atmosphäre zusammenzusein.\n\nWir freuen uns auf euren Besuch und
  darauf\, gemeinsam mit euch einen sonnigen Tag im Hochzeitswald zu verbri
 ngen!
ATTACH;FMTTYPE=image/jpeg:https://kurt-ev.de/wp-content/uploads/2025/02/Ma
 ritimes_Fischbroetchen_klein.jpg
END:VEVENT
BEGIN:VTIMEZONE
TZID:Europe/Berlin
X-LIC-LOCATION:Europe/Berlin
BEGIN:DAYLIGHT
DTSTART:20250330T030000
TZOFFSETFROM:+0100
TZOFFSETTO:+0200
TZNAME:CEST
END:DAYLIGHT
END:VTIMEZONE
END:VCALENDAR