BEGIN:VCALENDAR
VERSION:2.0
PRODID:-//wp-events-plugin.com//7.2.3.1//EN
TZID:Europe/Berlin
X-WR-TIMEZONE:Europe/Berlin
BEGIN:VEVENT
UID:287@kurt-ev.de
DTSTART;TZID=Europe/Berlin:20251220T193000
DTEND;TZID=Europe/Berlin:20251220T220000
DTSTAMP:20250816T062826Z
URL:https://kurt-ev.de/veranstaltungen/lebendiges-barock-weihnachtskonzert
 -mit-dem-classic-chamber-orchestra/
SUMMARY:Lebendiges Barock – Weihnachtskonzert mit dem Classic Chamber Orc
 hestra
DESCRIPTION:Das Classic Chambe Orchesta der Klassischen Philharmonie NordWe
 st spielt ein barockes Weihnachtkonzert mit Kompositionen von Vivaldi\, H
 ändel und Benda sowie das Weihnachtskonzert von Corelli unter Leitung des
  Dirigenten Ulrich Semrau.
ATTACH;FMTTYPE=image/jpeg:https://kurt-ev.de/wp-content/uploads/2025/08/Ka
 mmerphilharmonie.jpeg
END:VEVENT
BEGIN:VTIMEZONE
TZID:Europe/Berlin
X-LIC-LOCATION:Europe/Berlin
BEGIN:STANDARD
DTSTART:20251026T020000
TZOFFSETFROM:+0200
TZOFFSETTO:+0100
TZNAME:CET
END:STANDARD
END:VTIMEZONE
END:VCALENDAR