BEGIN:VCALENDAR
VERSION:2.0
PRODID:-//wp-events-plugin.com//7.2.3.1//EN
TZID:Europe/Berlin
X-WR-TIMEZONE:Europe/Berlin
BEGIN:VEVENT
UID:75@kurt-ev.de
DTSTART;TZID=Europe/Berlin:20230214T153000
DTEND;TZID=Europe/Berlin:20230321T170000
DTSTAMP:20230107T122112Z
URL:https://kurt-ev.de/veranstaltungen/junge-vhs-spass-am-malen-mit-acrylf
 arben/
SUMMARY:Junge VHS: Spaß am Malen mit Acrylfarben
DESCRIPTION:\n\n\n
END:VEVENT
BEGIN:VTIMEZONE
TZID:Europe/Berlin
X-LIC-LOCATION:Europe/Berlin
BEGIN:STANDARD
DTSTART:20221030T020000
TZOFFSETFROM:+0200
TZOFFSETTO:+0100
TZNAME:CET
END:STANDARD
END:VTIMEZONE
END:VCALENDAR