BEGIN:VCALENDAR
VERSION:2.0
PRODID:-//wp-events-plugin.com//7.2.3.1//EN
TZID:Europe/Berlin
X-WR-TIMEZONE:Europe/Berlin
BEGIN:VEVENT
UID:68@kurt-ev.de
DTSTART;TZID=Europe/Berlin:20230521T140000
DTEND;TZID=Europe/Berlin:20230521T173000
DTSTAMP:20230106T170223Z
URL:https://kurt-ev.de/veranstaltungen/internationaler-museumstag/
SUMMARY:Internationaler Museumstag
DESCRIPTION:Tag der offenen Tür zum Internationen Museumstag mit Live-Vorf
 ührungen\, Strohhutnahen und Malottenherstellung\, Fossilienschau des Hei
 mat- und Bürgervereins im 1. OG. Der Museumsshop hat geöffnet. Es werden
  Kaffee und Kuchen auf der Museumsdiele angeboten.
END:VEVENT
BEGIN:VTIMEZONE
TZID:Europe/Berlin
X-LIC-LOCATION:Europe/Berlin
BEGIN:DAYLIGHT
DTSTART:20230326T030000
TZOFFSETFROM:+0100
TZOFFSETTO:+0200
TZNAME:CEST
END:DAYLIGHT
END:VTIMEZONE
END:VCALENDAR