BEGIN:VCALENDAR
VERSION:2.0
PRODID:-//wp-events-plugin.com//7.2.3.1//EN
TZID:Europe/Berlin
X-WR-TIMEZONE:Europe/Berlin
BEGIN:VEVENT
UID:250@kurt-ev.de
DTSTART;TZID=Europe/Berlin:20250518T140000
DTEND;TZID=Europe/Berlin:20250518T173000
DTSTAMP:20250202T163924Z
URL:https://kurt-ev.de/veranstaltungen/internationaler-museumstag-im-stroh
 museum-2/
SUMMARY:Internationaler Museumstag im Strohmuseum
DESCRIPTION:TAG DER OFFENEN TÜR im Twistringer Strohmuseum: EINTRITT FREI 
 - Mit Spaß dabei!\n\n"Vielfalt der Museen entdecken": Unter diesem Motto 
 laden Museen in ganz Deutschland zum diesjährigen Internationalen Museums
 tag ein. Eines dieser Museen\, die es zu entdecken gibt\, ist das Twistrin
 ger Strohmuseum. Anlässlich des bundesweiten Aktionstages veranstaltet de
 r Museumsverein einen abwechslungsreichen Tag der offenen Tür. In der Zei
 t von 14 bis 17.30 Uhr hat das Twistringer Spezialmuseum im Kapellenweg 2 
 seine Türen geöffnet. Dort erwartet die Gäste ein abwechslungsreiches P
 rogramm: Bei freiem Eintritt kann die Dauerausstellung rund um die 300jäh
 rige Geschichte der Twistringer Strohverarbeitung individuell besucht werd
 en. Um 15 Uhr wird eine ebenfalls kostenfreie\, offene Führung mit Live-V
 orführungen Strohhutnähen und Malottenherstellung angeboten. Im Obergesc
 hoss lädt der Heimat- und Bürgerverein zum Besuch der Fossilienschau mit
  Funden aus den Tongruben der ehemaligen Ziegelei Sunder ein. Auch für da
 s leibliche Wohl ist gesorgt: Auf der gemütlichen Museumsdiele bieten die
  Ehrenamtlichen des Strohmuseums Kaffee und Kuchen an. Der Museumsshop mit
  einer großen Auswahl an handgefertigten Strohprodukten "made in Twistrin
 gen" ist ebenfalls geöffnet.\n\nWeitere Infos zu Preisen\, Führungen\, A
 ngeboten und Veranstaltungen gibt es unter www.strohmuseum.de\, telefonisc
 h unter 04243 4492 zu den Büroöffnungszeiten Di und Do von 9 bis 11.30 U
 hr sowie per Mail unter info@strohmuseum.de
ATTACH;FMTTYPE=image/jpeg:https://kurt-ev.de/wp-content/uploads/2025/01/IM
 G_20220330_1545493.jpg
END:VEVENT
BEGIN:VTIMEZONE
TZID:Europe/Berlin
X-LIC-LOCATION:Europe/Berlin
BEGIN:DAYLIGHT
DTSTART:20250330T030000
TZOFFSETFROM:+0100
TZOFFSETTO:+0200
TZNAME:CEST
END:DAYLIGHT
END:VTIMEZONE
END:VCALENDAR