BEGIN:VCALENDAR
VERSION:2.0
PRODID:-//wp-events-plugin.com//7.2.3.1//EN
TZID:Europe/Berlin
X-WR-TIMEZONE:Europe/Berlin
BEGIN:VEVENT
UID:149@kurt-ev.de
DTSTART;TZID=Europe/Berlin:20240519T140000
DTEND;TZID=Europe/Berlin:20240519T173000
DTSTAMP:20231025T143710Z
URL:https://kurt-ev.de/veranstaltungen/internationalen-museumstag/
SUMMARY:Internationalen Museumstag
DESCRIPTION:Tag der offenen Tür zum Internationalen Museumstag mit Live-Vo
 rführungen Strohhutnähen und Malottenherstellung. Außerdem Ausstellung 
 "Strohkunst aus aller Welt" im EG und Fossilienschau des Heimat-und Bürge
 rvereins im 1.OG. Der Museumsshop hat geöffnet. Auf der Museumsdiele werd
 en Kaffee und Kuchen angeboten.
ATTACH;FMTTYPE=image/jpeg:https://kurt-ev.de/wp-content/uploads/2023/10/Ka
 emmbockgelb_FH.jpg
END:VEVENT
BEGIN:VTIMEZONE
TZID:Europe/Berlin
X-LIC-LOCATION:Europe/Berlin
BEGIN:DAYLIGHT
DTSTART:20240331T030000
TZOFFSETFROM:+0100
TZOFFSETTO:+0200
TZNAME:CEST
END:DAYLIGHT
END:VTIMEZONE
END:VCALENDAR