BEGIN:VCALENDAR
VERSION:2.0
PRODID:-//wp-events-plugin.com//7.2.3.1//EN
TZID:Europe/Berlin
X-WR-TIMEZONE:Europe/Berlin
BEGIN:VEVENT
UID:256@kurt-ev.de
DTSTART;TZID=Europe/Berlin:20250310T143000
DTEND;TZID=Europe/Berlin:20250310T163000
DTSTAMP:20250213T144353Z
URL:https://kurt-ev.de/veranstaltungen/gaestefuehrung-ganz-entspannt-bei-r
 aiffeisen-2/
SUMMARY:Gästeführung "Ganz entspannt bei...Raiffeisen"
DESCRIPTION:"Am Anfang war die Idee...": Alle kennen die Raiffeisen'schen G
 enossenschaften\, aber kaum jemand kennt heute noch den Begründer selbst.
  Friedrich Wilhelm Raiffeisen\, geb. am 30. März 1818 im Westerwald. Ein 
 christlicher Visionär und großer Sozialreformer\, der im Hungerwinter 18
 46/47 den "Brodverein" gründete und damit die verarmten Dorfbewohner vor 
 dem Hungertod rettete. Hilfe zur Selbsthilfe - das war sein Prinzip. Aus d
 em "Brodverein" ist eine weltumspannende Genossenschaftsidee geworden.\n\n
 Die Teilnehmenden erwartet eine höchst interessante Führung durch die Pr
 oduktionsstätte der Twistringer Niederlassung der Raiffeisen-Warengenosse
 nschaft Niedersachsen eG. Der geschichtliche Exkurs in die Firmenhistorie 
 und Interessantes zum Begründer selbst dürfen dabei natürlich nicht feh
 len\, versüßt wird dies mit Kaffee und Kuchen auf Einladung der Twistrin
 ger Raiffeisen Niederlassung.\n\nDie Gästeführung „Ganz entspannt bei.
 ..Raiffeisen“ mit der Gästeführerin Marion Urbanski startet am Mittwoc
 h 05.03. um 14:30 Uhr\, Treffpunkt ist beim Eingang der Raiffeisen-Warenge
 nossenschaft Twistringen in der Konrad-Adenauer-Straße 41. Die Teilnehmer
 zahl ist begrenzt.\n\nAnmeldungen sind ab sofort möglich im Rathaus beim 
 Bürgerservice zu den üblichen Rathausöffnungszeiten\, telefonisch unter
  04243 413-0 oder per Mail unter buergerservice@twistringen.de. Kostenpunk
 t pro Teilnehmer für die geführte Tour liegt bei 4\,00 EUR (inkl. Kaffee
  und Kuchen)\, zu bezahlen in bar am Veranstaltungstag direkt vor Ort bei 
 der Twistringer Gästeführerin.\n\nWeitere Informationen gibt es in Kürz
 e unter www.twistringen.de/gaestefuehrung. Dort wird dann auch der Flyer m
 it dem Programm 2025 zum kostenlosen Download zur Verfügung stehen.
ATTACH;FMTTYPE=image/jpeg:https://kurt-ev.de/wp-content/uploads/2025/02/Fo
 to-Raiffeisen.jpg
END:VEVENT
BEGIN:VTIMEZONE
TZID:Europe/Berlin
X-LIC-LOCATION:Europe/Berlin
BEGIN:STANDARD
DTSTART:20241027T020000
TZOFFSETFROM:+0200
TZOFFSETTO:+0100
TZNAME:CET
END:STANDARD
END:VTIMEZONE
END:VCALENDAR