BEGIN:VCALENDAR
VERSION:2.0
PRODID:-//wp-events-plugin.com//7.2.3.1//EN
TZID:Europe/Berlin
X-WR-TIMEZONE:Europe/Berlin
BEGIN:VEVENT
UID:226@kurt-ev.de
DTSTART;TZID=Europe/Berlin:20241117T153000
DTEND;TZID=Europe/Berlin:20241117T173000
DTSTAMP:20241104T141123Z
URL:https://kurt-ev.de/veranstaltungen/gaerten-in-suedostengland-suedosten
 gland-mit-sissinghurst/
SUMMARY:Gärten in Südostengland - Südostengland mit Sissinghurst
DESCRIPTION:Der Süden Englands wird vom besonders milden Golfstromklima ve
 rwöhnt. Wilde Küstenabschnitte mit steil aufragenden Kreidefelsklippen u
 nd stimmungsvolle Fischerdörfer mit malerischen Gassen wechseln sich mit 
 mondänen Seebädern ab. In den Grafschaften Kent und East-Sussex mit ihre
 n sanften Tälern und Hügeln treffen wir auf ein noch urpsrüngliches lä
 ndliches Idyll mit romantischen mittelalterlichen Fachwerkdörfern\, verwi
 tterten Steinmaueren\, reizvollen gotischen Kirchen und efeuumrankten Klos
 terruinen. Die britische Leidenschaft für alles\, was grünt und blüht\,
  hat hier im Laufe der Jahrhundere einige der schönsten Gärten der Welt 
 entstehen lassen. Lassen Sie sich aus dem grauen November in traumhaft sch
 öne Gärten entführen! Vortrag von und mit Klaus Kirmis.
ATTACH;FMTTYPE=image/jpeg:https://kurt-ev.de/wp-content/uploads/2024/11/Fo
 to-Kirmis_Gaerten_Suedostengland.jpg
END:VEVENT
BEGIN:VTIMEZONE
TZID:Europe/Berlin
X-LIC-LOCATION:Europe/Berlin
BEGIN:STANDARD
DTSTART:20241027T020000
TZOFFSETFROM:+0200
TZOFFSETTO:+0100
TZNAME:CET
END:STANDARD
END:VTIMEZONE
END:VCALENDAR