BEGIN:VCALENDAR
VERSION:2.0
PRODID:-//wp-events-plugin.com//7.2.3.1//EN
TZID:Europe/Berlin
X-WR-TIMEZONE:Europe/Berlin
BEGIN:VEVENT
UID:183@kurt-ev.de
DTSTART;TZID=Europe/Berlin:20240405T140000
DTEND;TZID=Europe/Berlin:20240405T180000
DTSTAMP:20240206T195541Z
URL:https://kurt-ev.de/veranstaltungen/eroeffnung-fossiliengrube-twistring
 en-2/
SUMMARY:Eröffnung FossilienGrube Twistringen
DESCRIPTION:FossilienGrube Twistringen - Fenster zur Urzeit\n\nEröffnungsv
 eranstaltung der FossilienGrube Twistringen an der Alten Ziegelei\, Nordde
 utschlands einzig öffentlich zugängiger Fossiliensammelstelle.\nVorstell
 ung der FossilienWerkbox\, Führungen in die FossilienGrube\, Rahmenprogra
 mm. Ohne Anmeldung\, Eintritt frei
ATTACH;FMTTYPE=image/jpeg:https://kurt-ev.de/wp-content/uploads/2024/02/Pr
 essefoto-FossilienGrube_klein-1.jpg
END:VEVENT
BEGIN:VTIMEZONE
TZID:Europe/Berlin
X-LIC-LOCATION:Europe/Berlin
BEGIN:DAYLIGHT
DTSTART:20240331T030000
TZOFFSETFROM:+0100
TZOFFSETTO:+0200
TZNAME:CEST
END:DAYLIGHT
END:VTIMEZONE
END:VCALENDAR